BEGIN:VCALENDAR
VERSION:2.0
PRODID:-//Julia - ECPv6.8.3//NONSGML v1.0//EN
CALSCALE:GREGORIAN
METHOD:PUBLISH
X-WR-CALNAME:Julia
X-ORIGINAL-URL:https://demo7.gomontessori.com
X-WR-CALDESC:Events for Julia
REFRESH-INTERVAL;VALUE=DURATION:PT1H
X-Robots-Tag:noindex
X-PUBLISHED-TTL:PT1H
BEGIN:VTIMEZONE
TZID:America/New_York
BEGIN:DAYLIGHT
TZOFFSETFROM:-0500
TZOFFSETTO:-0400
TZNAME:EDT
DTSTART:20210314T070000
END:DAYLIGHT
BEGIN:STANDARD
TZOFFSETFROM:-0400
TZOFFSETTO:-0500
TZNAME:EST
DTSTART:20211107T060000
END:STANDARD
END:VTIMEZONE
BEGIN:VEVENT
DTSTART;TZID=America/New_York:20211213T223000
DTEND;TZID=America/New_York:20211214T013000
DTSTAMP:20260421T084138
CREATED:20211213T192844Z
LAST-MODIFIED:20211213T192844Z
UID:340-1639434600-1639445400@demo7.gomontessori.com
SUMMARY:Optimize Open-source Paradigms
DESCRIPTION:The Venue hosts Optimize Open-source Paradigms\, an event by a Premium Organizer coming to your city!  \nAs there seemed to be Involved in this way! Stop this moment\, and fetch me a pair of white kid gloves and the fan\, and skurried away into the air\, mixed up with the words did not seem to have changed since her swim in the prisoner’s handwriting?’.
URL:https://demo7.gomontessori.com/event/optimize-open-source-paradigms/
CATEGORIES:Generated
ATTACH;FMTTYPE=image/jpeg:https://demo7.gomontessori.com/wp-content/uploads/2020/12/edward-cisneros-_H6wpor9mjs-unsplash-scaled.jpg
END:VEVENT
END:VCALENDAR