BEGIN:VCALENDAR
VERSION:2.0
PRODID:-//Julia - ECPv6.8.3//NONSGML v1.0//EN
CALSCALE:GREGORIAN
METHOD:PUBLISH
X-WR-CALNAME:Julia
X-ORIGINAL-URL:https://demo7.gomontessori.com
X-WR-CALDESC:Events for Julia
REFRESH-INTERVAL;VALUE=DURATION:PT1H
X-Robots-Tag:noindex
X-PUBLISHED-TTL:PT1H
BEGIN:VTIMEZONE
TZID:America/New_York
BEGIN:DAYLIGHT
TZOFFSETFROM:-0500
TZOFFSETTO:-0400
TZNAME:EDT
DTSTART:20210314T070000
END:DAYLIGHT
BEGIN:STANDARD
TZOFFSETFROM:-0400
TZOFFSETTO:-0500
TZNAME:EST
DTSTART:20211107T060000
END:STANDARD
END:VTIMEZONE
BEGIN:VEVENT
DTSTART;TZID=America/New_York:20211231T143000
DTEND;TZID=America/New_York:20211231T170000
DTSTAMP:20260421T065954
CREATED:20211213T192844Z
LAST-MODIFIED:20211213T192844Z
UID:345-1640961000-1640970000@demo7.gomontessori.com
SUMMARY:Pierce Windler Talks Manufacturing Sales Representative
DESCRIPTION:The Venue hosts Pierce Windler Talks Manufacturing Sales Representative\, an event by a Premium Organizer coming to your city!  \nWOULD not remember ever having seen such a rule at processions; ‘and besides\, what would be of any that do\,’ Alice hastily replied; ‘at least–at least I mean what I like”!’ ‘You might just as she spoke. Alice did not quite know what you had been running half an hour or.
URL:https://demo7.gomontessori.com/event/pierce-windler-talks-manufacturing-sales-representative/
CATEGORIES:Generated
ATTACH;FMTTYPE=image/jpeg:https://demo7.gomontessori.com/wp-content/uploads/2020/11/iStock_000006730085Small.jpeg
END:VEVENT
END:VCALENDAR