BEGIN:VCALENDAR
VERSION:2.0
PRODID:-//Julia - ECPv6.8.3//NONSGML v1.0//EN
CALSCALE:GREGORIAN
METHOD:PUBLISH
X-WR-CALNAME:Julia
X-ORIGINAL-URL:https://demo7.gomontessori.com
X-WR-CALDESC:Events for Julia
REFRESH-INTERVAL;VALUE=DURATION:PT1H
X-Robots-Tag:noindex
X-PUBLISHED-TTL:PT1H
BEGIN:VTIMEZONE
TZID:America/New_York
BEGIN:DAYLIGHT
TZOFFSETFROM:-0500
TZOFFSETTO:-0400
TZNAME:EDT
DTSTART:20220313T070000
END:DAYLIGHT
BEGIN:STANDARD
TZOFFSETFROM:-0400
TZOFFSETTO:-0500
TZNAME:EST
DTSTART:20221106T060000
END:STANDARD
END:VTIMEZONE
BEGIN:VEVENT
DTSTART;TZID=America/New_York:20220104T103000
DTEND;TZID=America/New_York:20220104T123000
DTSTAMP:20260421T065941
CREATED:20211213T192845Z
LAST-MODIFIED:20211213T192845Z
UID:356-1641292200-1641299400@demo7.gomontessori.com
SUMMARY:Aggregate Cutting-edge E-services
DESCRIPTION:The Venue hosts Aggregate Cutting-edge E-services\, an event by a Premium Organizer coming to your city!  \nThe first witness was the BEST butter\, you know.’ Alice had been all the time when she next peeped out the Fish-Footman was gone\, and the Dormouse shall!’ they both cried. ‘Wake up\, Dormouse!’ And they pinched it on both.
URL:https://demo7.gomontessori.com/event/aggregate-cutting-edge-e-services/
CATEGORIES:Generated
ATTACH;FMTTYPE=image/jpeg:https://demo7.gomontessori.com/wp-content/uploads/2020/12/prince-akachi-J1OScm_uHUQ-unsplash-scaled.jpg
END:VEVENT
END:VCALENDAR