BEGIN:VCALENDAR
VERSION:2.0
PRODID:-//Julia - ECPv6.8.3//NONSGML v1.0//EN
CALSCALE:GREGORIAN
METHOD:PUBLISH
X-ORIGINAL-URL:https://demo7.gomontessori.com
X-WR-CALDESC:Events for Julia
REFRESH-INTERVAL;VALUE=DURATION:PT1H
X-Robots-Tag:noindex
X-PUBLISHED-TTL:PT1H
BEGIN:VTIMEZONE
TZID:America/New_York
BEGIN:DAYLIGHT
TZOFFSETFROM:-0500
TZOFFSETTO:-0400
TZNAME:EDT
DTSTART:20220313T070000
END:DAYLIGHT
BEGIN:STANDARD
TZOFFSETFROM:-0400
TZOFFSETTO:-0500
TZNAME:EST
DTSTART:20221106T060000
END:STANDARD
END:VTIMEZONE
BEGIN:VEVENT
DTSTART;TZID=America/New_York:20220107T030000
DTEND;TZID=America/New_York:20220107T053000
DTSTAMP:20260421T070015
CREATED:20211213T192845Z
LAST-MODIFIED:20211213T192845Z
UID:352-1641524400-1641533400@demo7.gomontessori.com
SUMMARY:Embrace Intuitive Supply-chains
DESCRIPTION:The Venue hosts Embrace Intuitive Supply-chains\, an event by a Premium Organizer coming to your city!  \nGAVE HIM TWO–” why\, that must be the best of educations–in fact\, we went to school in the world go round!”‘ ‘Somebody said\,’ Alice whispered\, ‘that it’s done by everybody minding their own business\,’.
URL:https://demo7.gomontessori.com/event/embrace-intuitive-supply-chains/
CATEGORIES:Generated
ATTACH;FMTTYPE=image/jpeg:https://demo7.gomontessori.com/wp-content/uploads/2020/12/prince-akachi-J1OScm_uHUQ-unsplash-scaled.jpg
END:VEVENT
END:VCALENDAR