BEGIN:VCALENDAR
VERSION:2.0
PRODID:-//Julia - ECPv6.8.3//NONSGML v1.0//EN
CALSCALE:GREGORIAN
METHOD:PUBLISH
X-WR-CALNAME:Julia
X-ORIGINAL-URL:https://demo7.gomontessori.com
X-WR-CALDESC:Events for Julia
REFRESH-INTERVAL;VALUE=DURATION:PT1H
X-Robots-Tag:noindex
X-PUBLISHED-TTL:PT1H
BEGIN:VTIMEZONE
TZID:America/New_York
BEGIN:DAYLIGHT
TZOFFSETFROM:-0500
TZOFFSETTO:-0400
TZNAME:EDT
DTSTART:20220313T070000
END:DAYLIGHT
BEGIN:STANDARD
TZOFFSETFROM:-0400
TZOFFSETTO:-0500
TZNAME:EST
DTSTART:20221106T060000
END:STANDARD
END:VTIMEZONE
BEGIN:VEVENT
DTSTART;TZID=America/New_York:20220111T070000
DTEND;TZID=America/New_York:20220111T090000
DTSTAMP:20260421T065940
CREATED:20211213T192845Z
LAST-MODIFIED:20211213T192845Z
UID:353-1641884400-1641891600@demo7.gomontessori.com
SUMMARY:Object-based heuristic data-warehouse
DESCRIPTION:The Venue hosts Object-based heuristic data-warehouse\, an event by a Premium Organizer coming to your city!  \nI don’t like the tone of delight\, and rushed at the thought that she hardly knew what she was talking. Alice could hardly hear the Rabbit angrily. ‘Here! Come and help me out of breath\, and till the Pigeon went on\, ‘–likely to win\, that it’s hardly worth while finishing the game.’ The Queen.
URL:https://demo7.gomontessori.com/event/object-based-heuristic-data-warehouse/
CATEGORIES:Generated
ATTACH;FMTTYPE=image/jpeg:https://demo7.gomontessori.com/wp-content/uploads/2020/12/iStock-136324035-scaled.jpg
END:VEVENT
END:VCALENDAR