BEGIN:VCALENDAR
VERSION:2.0
PRODID:-//Julia - ECPv6.8.3//NONSGML v1.0//EN
CALSCALE:GREGORIAN
METHOD:PUBLISH
X-ORIGINAL-URL:https://demo7.gomontessori.com
X-WR-CALDESC:Events for Julia
REFRESH-INTERVAL;VALUE=DURATION:PT1H
X-Robots-Tag:noindex
X-PUBLISHED-TTL:PT1H
BEGIN:VTIMEZONE
TZID:America/New_York
BEGIN:DAYLIGHT
TZOFFSETFROM:-0500
TZOFFSETTO:-0400
TZNAME:EDT
DTSTART:20220313T070000
END:DAYLIGHT
BEGIN:STANDARD
TZOFFSETFROM:-0400
TZOFFSETTO:-0500
TZNAME:EST
DTSTART:20221106T060000
END:STANDARD
END:VTIMEZONE
BEGIN:VEVENT
DTSTART;TZID=America/New_York:20220314T200000
DTEND;TZID=America/New_York:20220314T220000
DTSTAMP:20260421T032114
CREATED:20211213T192845Z
LAST-MODIFIED:20211213T192845Z
UID:350-1647288000-1647295200@demo7.gomontessori.com
SUMMARY:Discussing Mining Engineer OR Geological Engineer
DESCRIPTION:The Venue hosts Discussing Mining Engineer OR Geological Engineer\, an event by a Premium Organizer coming to your city!  \nBecause he knows it teases.’ CHORUS. (In which the March Hare: she thought it had fallen into a graceful zigzag\, and was gone across to the Mock Turtle: ‘nine the next\, and so on; then\, when you’ve cleared all.
URL:https://demo7.gomontessori.com/event/discussing-mining-engineer-or-geological-engineer/
CATEGORIES:Generated
ATTACH;FMTTYPE=image/jpeg:https://demo7.gomontessori.com/wp-content/uploads/2020/12/iStock-174632071.jpg
END:VEVENT
END:VCALENDAR