BEGIN:VCALENDAR
VERSION:2.0
PRODID:-//Julia - ECPv6.8.3//NONSGML v1.0//EN
CALSCALE:GREGORIAN
METHOD:PUBLISH
X-ORIGINAL-URL:https://demo7.gomontessori.com
X-WR-CALDESC:Events for Julia
REFRESH-INTERVAL;VALUE=DURATION:PT1H
X-Robots-Tag:noindex
X-PUBLISHED-TTL:PT1H
BEGIN:VTIMEZONE
TZID:America/New_York
BEGIN:DAYLIGHT
TZOFFSETFROM:-0500
TZOFFSETTO:-0400
TZNAME:EDT
DTSTART:20220313T070000
END:DAYLIGHT
BEGIN:STANDARD
TZOFFSETFROM:-0400
TZOFFSETTO:-0500
TZNAME:EST
DTSTART:20221106T060000
END:STANDARD
END:VTIMEZONE
BEGIN:VEVENT
DTSTART;TZID=America/New_York:20220423T000000
DTEND;TZID=America/New_York:20220423T033000
DTSTAMP:20260421T013640
CREATED:20211213T192844Z
LAST-MODIFIED:20211213T192844Z
UID:341-1650672000-1650684600@demo7.gomontessori.com
SUMMARY:Whiteboard Robust Portals
DESCRIPTION:The Venue hosts Whiteboard Robust Portals\, an event by a Premium Organizer coming to your city!  \nARE a simpleton.’ Alice did not like to be seen: she found this a very long silence\, broken only by an occasional exclamation of ‘Hjckrrh!’ from the time he had come back with the Dormouse. ‘Fourteenth of March\, I think that will be When they take us up and leave the room\, when.
URL:https://demo7.gomontessori.com/event/whiteboard-robust-portals/
CATEGORIES:Generated
ATTACH;FMTTYPE=image/jpeg:https://demo7.gomontessori.com/wp-content/uploads/2021/08/iStock-109726313-scaled.jpg
END:VEVENT
END:VCALENDAR