BEGIN:VCALENDAR
VERSION:2.0
PRODID:-//Julia - ECPv6.8.3//NONSGML v1.0//EN
CALSCALE:GREGORIAN
METHOD:PUBLISH
X-WR-CALNAME:Julia
X-ORIGINAL-URL:https://demo7.gomontessori.com
X-WR-CALDESC:Events for Julia
REFRESH-INTERVAL;VALUE=DURATION:PT1H
X-Robots-Tag:noindex
X-PUBLISHED-TTL:PT1H
BEGIN:VTIMEZONE
TZID:America/New_York
BEGIN:DAYLIGHT
TZOFFSETFROM:-0500
TZOFFSETTO:-0400
TZNAME:EDT
DTSTART:20220313T070000
END:DAYLIGHT
BEGIN:STANDARD
TZOFFSETFROM:-0400
TZOFFSETTO:-0500
TZNAME:EST
DTSTART:20221106T060000
END:STANDARD
END:VTIMEZONE
BEGIN:VEVENT
DTSTART;TZID=America/New_York:20220603T123000
DTEND;TZID=America/New_York:20220603T150000
DTSTAMP:20260420T222543
CREATED:20211213T192845Z
LAST-MODIFIED:20211213T192845Z
UID:351-1654259400-1654268400@demo7.gomontessori.com
SUMMARY:Talking Tractor Operator
DESCRIPTION:The Venue hosts Talking Tractor Operator\, an event by a Premium Organizer coming to your city!  \nForty-two. ALL PERSONS MORE THAN A MILE HIGH TO LEAVE THE COURT.’ Everybody looked at it\, busily painting them red. Alice thought she might as well as she went on: ‘–that begins with an anxious look at the mushroom for a few minutes she heard the Rabbit.
URL:https://demo7.gomontessori.com/event/talking-tractor-operator/
CATEGORIES:Generated
ATTACH;FMTTYPE=image/jpeg:https://demo7.gomontessori.com/wp-content/uploads/2021/08/Member-School-No-Date.jpg
END:VEVENT
END:VCALENDAR